BEGIN:VCALENDAR
VERSION:2.0
PRODID:-//speaker gain teardrop - ECPv4.6.13//NONSGML v1.0//EN
CALSCALE:GREGORIAN
METHOD:PUBLISH
X-WR-CALNAME:speaker gain teardrop
X-ORIGINAL-URL:http://speakergainteardrop.com
X-WR-CALDESC:Events for speaker gain teardrop
BEGIN:VEVENT
DTSTART;TZID=Asia/Tokyo:20221210T190000
DTEND;TZID=Asia/Tokyo:20221210T220000
DTSTAMP:20260420T153911
CREATED:20221109T093012Z
LAST-MODIFIED:20221123T025406Z
UID:1535-1670698800-1670709600@speakergainteardrop.com
SUMMARY:para-dice企画「GOLD EXPERIENCE」
DESCRIPTION:\n2022年最後のライブは大坂で締めます。今回は大好きな扇町para-diceの企画に参加させて頂きます。\n超久々のZweigさんがいるので今からテンションが上がってます。お時間ありましたら是非お越しください！ \n■ Zweig \n■ 悲しみかもめ \n■ オオハシ \n■ speaker gain teardrop \n
URL:http://speakergainteardrop.com/event/para-dice%e4%bc%81%e7%94%bb%e3%80%8cgold-experience%e3%80%8d/
END:VEVENT
END:VCALENDAR