BEGIN:VCALENDAR
VERSION:2.0
PRODID:-//speaker gain teardrop - ECPv4.6.13//NONSGML v1.0//EN
CALSCALE:GREGORIAN
METHOD:PUBLISH
X-WR-CALNAME:speaker gain teardrop
X-ORIGINAL-URL:http://speakergainteardrop.com
X-WR-CALDESC:Events for speaker gain teardrop
BEGIN:VEVENT
DTSTART;TZID=Asia/Tokyo:20150512T190000
DTEND;TZID=Asia/Tokyo:20150512T230000
DTSTAMP:20260423T060254
CREATED:20150421T052905Z
LAST-MODIFIED:20150421T053213Z
UID:369-1431457200-1431471600@speakergainteardrop.com
SUMMARY:layer of perspectives - special
DESCRIPTION:広島で不定期に行われるエレクトロニカ / ポストロック / 電子音響イベント「layer of perspectives」\n今回はチェコのエクスペリメンタル・アンビエント・ユニットGURUN GURUNのJAPAN TOURに合わせて\nヲルガン座でspecialと題してして開催します。 \n– GURUN GURUN JAPAN TOUR 2015 – \n:special guest \n■ GURUN GURUN \n:live \n■ まやかしプラスチック \n■ Gallery Six \n■ kneeeeee \n■ Teletubes (Anndoe\,JUN / jailbird Y) \n■ stabilo (speaker gain teardrop) \n– GURUN GURUNプロフィール – \nチェコのポップ・バンドMiou Miouのメンバーらによるエクスペリメンタル・アンビエント\n・ユニットGURUN GURUN。ギター、アナログシンセ、ターンテーブルや他のさまざまな\n生楽器とデジタルエフェクトを組み合わせて、Tim Heckerをポップにしたような繊細な\n音響と、色彩感覚豊かなメロディーが合わさったサウンドを作り上げています。 \n
URL:http://speakergainteardrop.com/event/layer-of-perspectives-special/
ATTACH;FMTTYPE=image/jpeg:http://speakergainteardrop.com/wp/wp-content/uploads/2015/04/layer-sp-2015555.jpg
END:VEVENT
END:VCALENDAR