BEGIN:VCALENDAR
VERSION:2.0
PRODID:-//speaker gain teardrop - ECPv4.6.13//NONSGML v1.0//EN
CALSCALE:GREGORIAN
METHOD:PUBLISH
X-WR-CALNAME:speaker gain teardrop
X-ORIGINAL-URL:http://speakergainteardrop.com
X-WR-CALDESC:Events for speaker gain teardrop
BEGIN:VEVENT
DTSTART;TZID=Asia/Tokyo:20150428T193000
DTEND;TZID=Asia/Tokyo:20150428T230000
DTSTAMP:20260423T060441
CREATED:20150416T080757Z
LAST-MODIFIED:20150417T014526Z
UID:366-1430249400-1430262000@speakergainteardrop.com
SUMMARY:- dub marronics live -
DESCRIPTION:■ dub marronics \n■ keta-ra　 \n■スーパーフォトジェニック（タケウチショウゴ・オキモトトモアキ） \n■ヒトリノサーカスサンズ \n■ stabilo (speaker gain teardrop) \n
URL:http://speakergainteardrop.com/event/dub-marronics-live/
ATTACH;FMTTYPE=image/jpeg:http://speakergainteardrop.com/wp/wp-content/uploads/2015/04/201202261146360c8.jpg
END:VEVENT
END:VCALENDAR