BEGIN:VCALENDAR
VERSION:2.0
PRODID:-//speaker gain teardrop - ECPv4.6.13//NONSGML v1.0//EN
CALSCALE:GREGORIAN
METHOD:PUBLISH
X-WR-CALNAME:speaker gain teardrop
X-ORIGINAL-URL:http://speakergainteardrop.com
X-WR-CALDESC:Events for speaker gain teardrop
BEGIN:VEVENT
DTSTART;TZID=Asia/Tokyo:20150704T180000
DTEND;TZID=Asia/Tokyo:20150704T220000
DTSTAMP:20260423T060254
CREATED:20150427T022614Z
LAST-MODIFIED:20150703T035557Z
UID:372-1436032800-1436047200@speakergainteardrop.com
SUMMARY:Cat&Bonito vol.2 - inhaled this depth -
DESCRIPTION:久々にヒソミネにお邪魔します。今回はCat&Bonito単独企画vol.2に出演させて頂きます。\nどの出演者さんも各1時間のセットとなっています。お時間ありましたら是非お越しください！ \n:live \n■ niente. \n■ 山内憲介(sleepy.ab) \n■ speaker gain teardrop \n■ stabilo (speaker gain teardrop) \n:VJ \n■ 小室藍 \n■ bori \n
URL:http://speakergainteardrop.com/event/a-sequential-file/
ATTACH;FMTTYPE=image/jpeg:http://speakergainteardrop.com/wp/wp-content/uploads/2015/04/fk.jpg
END:VEVENT
END:VCALENDAR