BEGIN:VCALENDAR
VERSION:2.0
PRODID:-//speaker gain teardrop - ECPv4.6.13//NONSGML v1.0//EN
CALSCALE:GREGORIAN
METHOD:PUBLISH
X-WR-CALNAME:speaker gain teardrop
X-ORIGINAL-URL:http://speakergainteardrop.com
X-WR-CALDESC:Events for speaker gain teardrop
BEGIN:VEVENT
DTSTART;TZID=Asia/Tokyo:20230520T173000
DTEND;TZID=Asia/Tokyo:20230520T223000
DTSTAMP:20260420T153614
CREATED:20230422T032500Z
LAST-MODIFIED:20230422T032500Z
UID:1561-1684603800-1684621800@speakergainteardrop.com
SUMMARY:表現する空気 -人めく透明のコドク-
DESCRIPTION: \n深居優治さんのイベントに参加させて頂きます。関西シューゲイザーシーンで昔からお世話になっている「土曜日と人鳥とコーヒー」さんが初広来です。お時間ありましたら是非お越しください！ \n :LIVE \n◾️深居優治 \n◾️土曜日と人鳥とコーヒー \n◾️水波月奈巳 \n◾️Ostro \n◾️speaker gain teardrop  \n
URL:http://speakergainteardrop.com/event/%e8%a1%a8%e7%8f%be%e3%81%99%e3%82%8b%e7%a9%ba%e6%b0%97-%e4%ba%ba%e3%82%81%e3%81%8f%e9%80%8f%e6%98%8e%e3%81%ae%e3%82%b3%e3%83%89%e3%82%af/
END:VEVENT
END:VCALENDAR