BEGIN:VCALENDAR
VERSION:2.0
PRODID:-//speaker gain teardrop - ECPv4.6.13//NONSGML v1.0//EN
CALSCALE:GREGORIAN
METHOD:PUBLISH
X-WR-CALNAME:speaker gain teardrop
X-ORIGINAL-URL:http://speakergainteardrop.com
X-WR-CALDESC:Events for speaker gain teardrop
BEGIN:VEVENT
DTSTART;TZID=Asia/Tokyo:20230304T183000
DTEND;TZID=Asia/Tokyo:20230304T223000
DTSTAMP:20260420T141210
CREATED:20230219T030940Z
LAST-MODIFIED:20230219T030940Z
UID:1554-1677954600-1677969000@speakergainteardrop.com
SUMMARY:田舎者
DESCRIPTION: \nウサギバニーボーイのイベント「田舎者」に参加します。今回はオーストラリアからlong hours、山口のオルタナバンドfurateさんを呼んでの豪華なイベントとなります。お時間ありましたら是非お越しください！ \n:GUEST \n■ long hours (Australia) \n■ furate (山口) \n:LIVE \n■ ウサギバニーボーイ \n■ K the musicgirl \n■ speaker gain tetardrop \n
URL:http://speakergainteardrop.com/event/%e7%94%b0%e8%88%8e%e8%80%85-11/
LOCATION:広島市中区流川町7-6 第五白菱ビル3F奥\, Japan
END:VEVENT
END:VCALENDAR