BEGIN:VCALENDAR
VERSION:2.0
PRODID:-//speaker gain teardrop - ECPv4.6.13//NONSGML v1.0//EN
CALSCALE:GREGORIAN
METHOD:PUBLISH
X-WR-CALNAME:speaker gain teardrop
X-ORIGINAL-URL:http://speakergainteardrop.com
X-WR-CALDESC:Events for speaker gain teardrop
BEGIN:VEVENT
DTSTART;TZID=Asia/Tokyo:20230318T160000
DTEND;TZID=Asia/Tokyo:20230318T230000
DTSTAMP:20260420T122727
CREATED:20230219T025710Z
LAST-MODIFIED:20230305T041608Z
UID:1549-1679155200-1679180400@speakergainteardrop.com
SUMMARY:ゲルマン
DESCRIPTION: \n親と子くらい年齢の離れた世代間でイベントを開催します。地元で勢いのある若いバンドとおじさんバンドたちの化学反応を楽しめること間違いなしのイベントです。お時間ありましたら是非お越しください！ \n:LIVE \n■ Rubresist \n■ 人体工学 \n■ Amendose \n■ moodress \n■ ウサギバニーボーイ \n■ k the musicgirl \n■ etos \n■ speaker gain teardrop  \n
URL:http://speakergainteardrop.com/event/%e3%82%b2%e3%83%ab%e3%83%9e%e3%83%b3/
END:VEVENT
END:VCALENDAR